BEGIN:VCALENDAR
VERSION:2.0
PRODID:-//Fedequinas - ECPv6.15.14//NONSGML v1.0//EN
CALSCALE:GREGORIAN
METHOD:PUBLISH
X-WR-CALNAME:Fedequinas
X-ORIGINAL-URL:https://fedequinas.org
X-WR-CALDESC:Eventos para Fedequinas
REFRESH-INTERVAL;VALUE=DURATION:PT1H
X-Robots-Tag:noindex
X-PUBLISHED-TTL:PT1H
BEGIN:VTIMEZONE
TZID:America/Bogota
BEGIN:STANDARD
TZOFFSETFROM:-0500
TZOFFSETTO:-0500
TZNAME:-05
DTSTART:20210101T000000
END:STANDARD
END:VTIMEZONE
BEGIN:VTIMEZONE
TZID:UTC
BEGIN:STANDARD
TZOFFSETFROM:+0000
TZOFFSETTO:+0000
TZNAME:UTC
DTSTART:20210101T000000
END:STANDARD
END:VTIMEZONE
BEGIN:VEVENT
DTSTART;VALUE=DATE:20221209
DTEND;VALUE=DATE:20221211
DTSTAMP:20260423T022940
CREATED:20191217T195644Z
LAST-MODIFIED:20231102T152142Z
UID:35983-1670544000-1670716799@fedequinas.org
SUMMARY:LOS PATIOS-NORTE DE SANTANDER-ASOCANORTE
DESCRIPTION:JUECES: \nMAURICIO CAMACHO CALDERÓN
URL:https://fedequinas.org/event/salazar-santander-asocanorte/
LOCATION:CUCUTA\, Colombia
CATEGORIES:Grado B
END:VEVENT
BEGIN:VEVENT
DTSTART;VALUE=DATE:20221209
DTEND;VALUE=DATE:20221212
DTSTAMP:20260423T022940
CREATED:20210310T215133Z
LAST-MODIFIED:20221024T220644Z
UID:44286-1670544000-1670803199@fedequinas.org
SUMMARY:CAJICÁ - CLUB LA HACIENDA -CUNDINAMARCA- ASDEPASO
DESCRIPTION:Juez. \n 
URL:https://fedequinas.org/event/madrid-cundinamarca-asdepaso/
LOCATION:MADRID\, Colombia
CATEGORIES:Valida
END:VEVENT
BEGIN:VEVENT
DTSTART;VALUE=DATE:20221210
DTEND;VALUE=DATE:20221211
DTSTAMP:20260423T022940
CREATED:20190717T005317Z
LAST-MODIFIED:20221110T210741Z
UID:32887-1670630400-1670716799@fedequinas.org
SUMMARY:JNP- CLUB LAGOS DE CAUJARAL-ASOEQUINOS
DESCRIPTION:
URL:https://fedequinas.org/event/caujaral/
LOCATION:Atlantico\, Colombia
CATEGORIES:JNP
END:VEVENT
END:VCALENDAR