BEGIN:VCALENDAR
VERSION:2.0
PRODID:-//Fedequinas - ECPv6.15.14//NONSGML v1.0//EN
CALSCALE:GREGORIAN
METHOD:PUBLISH
X-ORIGINAL-URL:https://fedequinas.org
X-WR-CALDESC:Eventos para Fedequinas
REFRESH-INTERVAL;VALUE=DURATION:PT1H
X-Robots-Tag:noindex
X-PUBLISHED-TTL:PT1H
BEGIN:VTIMEZONE
TZID:UTC
BEGIN:STANDARD
TZOFFSETFROM:+0000
TZOFFSETTO:+0000
TZNAME:UTC
DTSTART:20210101T000000
END:STANDARD
END:VTIMEZONE
BEGIN:VEVENT
DTSTART;VALUE=DATE:20220722
DTEND;VALUE=DATE:20220725
DTSTAMP:20260421T054507
CREATED:20190716T030936Z
LAST-MODIFIED:20220629T194733Z
UID:32851-1658448000-1658707199@fedequinas.org
SUMMARY:EXPOASDEPASO- CUNDINAMARCA - ASDEPASO
DESCRIPTION:jueces: \nJAVIER AUGUSTO SARMIENTO ESTUPIÑÁN \nCARLOS ANTONIO BETANCUR CORREA \nDANIEL HIGUITA CARDONA
URL:https://fedequinas.org/event/bogota-cundinamarca-asdepaso/
LOCATION:Cundinamarca\, la mesa\, Colombia
CATEGORIES:Grado A
ATTACH;FMTTYPE=image/jpeg:https://fedequinas.org/wp-content/uploads/2022/06/Afiche-EXPOEQUINA-2022.jpeg
END:VEVENT
END:VCALENDAR