BEGIN:VCALENDAR
VERSION:2.0
PRODID:-//Fedequinas - ECPv6.15.14//NONSGML v1.0//EN
CALSCALE:GREGORIAN
METHOD:PUBLISH
X-ORIGINAL-URL:https://fedequinas.org
X-WR-CALDESC:Eventos para Fedequinas
REFRESH-INTERVAL;VALUE=DURATION:PT1H
X-Robots-Tag:noindex
X-PUBLISHED-TTL:PT1H
BEGIN:VTIMEZONE
TZID:UTC
BEGIN:STANDARD
TZOFFSETFROM:+0000
TZOFFSETTO:+0000
TZNAME:UTC
DTSTART:20250101T000000
END:STANDARD
END:VTIMEZONE
BEGIN:VTIMEZONE
TZID:America/Bogota
BEGIN:STANDARD
TZOFFSETFROM:-0500
TZOFFSETTO:-0500
TZNAME:-05
DTSTART:20250101T000000
END:STANDARD
END:VTIMEZONE
BEGIN:VEVENT
DTSTART;VALUE=DATE:20260313
DTEND;VALUE=DATE:20260315
DTSTAMP:20260421T103429
CREATED:20190525T022056Z
LAST-MODIFIED:20260305T203153Z
UID:220-1773360000-1773532799@fedequinas.org
SUMMARY:JNP PALMIRA-VALLE DEL CAUCA-ASDEOCCIDENTE
DESCRIPTION:JUEZ. \n 
URL:https://fedequinas.org/event/crines-pereira-risaralda/
LOCATION:PALMIRA\, Colombia
CATEGORIES:JNP
END:VEVENT
BEGIN:VEVENT
DTSTART;VALUE=DATE:20260321
DTEND;VALUE=DATE:20260322
DTSTAMP:20260421T103429
CREATED:20191217T193957Z
LAST-MODIFIED:20260305T203919Z
UID:35946-1774051200-1774137599@fedequinas.org
SUMMARY:JNP VILLAVICENCIO-META-CABALLANOS
DESCRIPTION:JUECES: \n 
URL:https://fedequinas.org/event/puerto-gaitan-meta-caballanos-2/
LOCATION:Meta
CATEGORIES:JNP
END:VEVENT
END:VCALENDAR