BEGIN:VCALENDAR
VERSION:2.0
PRODID:-//Fedequinas - ECPv6.15.14//NONSGML v1.0//EN
CALSCALE:GREGORIAN
METHOD:PUBLISH
X-WR-CALNAME:Fedequinas
X-ORIGINAL-URL:https://fedequinas.org
X-WR-CALDESC:Eventos para Fedequinas
REFRESH-INTERVAL;VALUE=DURATION:PT1H
X-Robots-Tag:noindex
X-PUBLISHED-TTL:PT1H
BEGIN:VTIMEZONE
TZID:America/Bogota
BEGIN:STANDARD
TZOFFSETFROM:-0500
TZOFFSETTO:-0500
TZNAME:-05
DTSTART:20220101T000000
END:STANDARD
END:VTIMEZONE
BEGIN:VTIMEZONE
TZID:UTC
BEGIN:STANDARD
TZOFFSETFROM:+0000
TZOFFSETTO:+0000
TZNAME:UTC
DTSTART:20220101T000000
END:STANDARD
END:VTIMEZONE
BEGIN:VEVENT
DTSTART;VALUE=DATE:20231102
DTEND;VALUE=DATE:20231104
DTSTAMP:20260422T072835
CREATED:20191217T192057Z
LAST-MODIFIED:20241023T215558Z
UID:35916-1698883200-1699055999@fedequinas.org
SUMMARY:LA ARGENTINA-HUILA-AHCABALLO
DESCRIPTION:JUECES: \nJUAN CARLOS PALENCIA LÓPEZ
URL:https://fedequinas.org/event/argentina-huila-ahcaballo/
LOCATION:Huila
CATEGORIES:Grado B
END:VEVENT
BEGIN:VEVENT
DTSTART;VALUE=DATE:20231111
DTEND;VALUE=DATE:20231113
DTSTAMP:20260422T072835
CREATED:20190612T020831Z
LAST-MODIFIED:20231108T165859Z
UID:2271-1699660800-1699833599@fedequinas.org
SUMMARY:PUERTO BOYACA - BOYACA - POTROS
DESCRIPTION:Juez. \nJAVIER AUGUSTO SARMIENTO ESTUPIÑAN
URL:https://fedequinas.org/event/jenesano-boyaca-potros/
LOCATION:Boyaca
CATEGORIES:Grado B
END:VEVENT
BEGIN:VEVENT
DTSTART;VALUE=DATE:20231124
DTEND;VALUE=DATE:20231127
DTSTAMP:20260422T072835
CREATED:20190716T024008Z
LAST-MODIFIED:20231102T152020Z
UID:32811-1700784000-1701043199@fedequinas.org
SUMMARY:VAL BARRANQUILLA - ATLANTICO - ASOEQUINOS
DESCRIPTION:JUEZ. \nCARMENZA RIVAS RODRIGUEZ \nJUAN CARLOS PALENCIA LÓPEZ \nHERNANDO GAVIRIA MÉNDEZ \n 
URL:https://fedequinas.org/event/barranquilla-atlantico-asoequinos/
LOCATION:BARRANQUILLA
CATEGORIES:Valida
END:VEVENT
END:VCALENDAR